BEGIN:VCALENDAR
VERSION:2.0
PRODID:-//Tukios.com/
BEGIN:VEVENT
UID:dbf9c77d-eb97-4e5d-b1f3-8df8b4aba09c@www.aikinsfarmer-millerfh.com
DTSTAMP:20260423T003740Z
DTSTART:20260427T160000Z
DTEND:20260427T170000Z
SUMMARY:Graveside Service
DESCRIPTION:
URL:https://www.aikinsfarmer-millerfh.com/obituaries/sharon-bremer-foss-neely
LOCATION: 5187 Old Marion Road  Metropolis IL 62960
GEO:37.2644309;-88.7052125
END:VEVENT
END:VCALENDAR